BEGIN:VCALENDAR
VERSION:2.0
PRODID:-//ASM Public School - ECPv6.5.0//NONSGML v1.0//EN
CALSCALE:GREGORIAN
METHOD:PUBLISH
X-WR-CALNAME:ASM Public School
X-ORIGINAL-URL:https://asmpublicschool.com
X-WR-CALDESC:Events for ASM Public School
REFRESH-INTERVAL;VALUE=DURATION:PT1H
X-Robots-Tag:noindex
X-PUBLISHED-TTL:PT1H
BEGIN:VTIMEZONE
TZID:UTC
BEGIN:STANDARD
TZOFFSETFROM:+0000
TZOFFSETTO:+0000
TZNAME:UTC
DTSTART:20230101T000000
END:STANDARD
END:VTIMEZONE
BEGIN:VEVENT
DTSTART;TZID=UTC:20231031T080000
DTEND;TZID=UTC:20231031T080000
DTSTAMP:20260421T053037
CREATED:20230526T084234Z
LAST-MODIFIED:20230929T105701Z
UID:912-1698739200-1698739200@asmpublicschool.com
SUMMARY:Ignite and Innovate: ASM Public School Science Fair
DESCRIPTION:ASM Public School proudly presents the “Ignite and Innovate: ASM Public School Science Fair\,” an extraordinary showcase of scientific curiosity\, innovation\, and discovery. This event is designed to inspire young minds\, ignite their passion for science\, and celebrate the wonders of scientific exploration. Join us for an exhilarating day filled with captivating experiments\, interactive exhibits\, and engaging presentations.
URL:https://asmpublicschool.com/event/ignite-and-innovate-asm-public-school-science-fair/
LOCATION:Asm Public School\, CC Head\, Padampur\, Sri Ganganagar\, Rajasthan\, 335051\, India
ATTACH;FMTTYPE=image/jpeg:https://asmpublicschool.com/wp-content/uploads/2020/01/blog-1.jpg
ORGANIZER;CN="B.S Pannu":MAILTO:asmpublicschool2001@gmail.com
END:VEVENT
END:VCALENDAR